BEGIN:VCALENDAR
VERSION:2.0
PRODID:-//HADSA - ECPv6.15.20//NONSGML v1.0//EN
CALSCALE:GREGORIAN
METHOD:PUBLISH
X-ORIGINAL-URL:https://hadsa.com
X-WR-CALDESC:Events for HADSA
REFRESH-INTERVAL;VALUE=DURATION:PT1H
X-Robots-Tag:noindex
X-PUBLISHED-TTL:PT1H
BEGIN:VTIMEZONE
TZID:Asia/Kolkata
BEGIN:STANDARD
TZOFFSETFROM:+0530
TZOFFSETTO:+0530
TZNAME:IST
DTSTART:20240101T000000
END:STANDARD
END:VTIMEZONE
BEGIN:VEVENT
DTSTART;TZID=Asia/Kolkata:20251114T153000
DTEND;TZID=Asia/Kolkata:20251114T173000
DTSTAMP:20260420T044617
CREATED:20251107T082722Z
LAST-MODIFIED:20251107T083014Z
UID:486-1763134200-1763141400@hadsa.com
SUMMARY:Diabetes and Well-being : A webinar
DESCRIPTION:HADSA in collaboration with Nurture Health Solutions brings to you an interesting webinar on the occasion of World Diabetes Day\, November 14\, 2025 \n\n\n\nSheryl Salis\, Founder and Director Nurture Health Solutions\, and a renowned Diabetes Educator will be speaking on Misconceptions in Diabetes and Diet Simplified where she breaks down the myths and misconceptions around diabetes and diet. Learn how small\, practical dietary choices can make a big difference in managing diabetes and enhancing overall wellbeing — even in the workplace\, where mindful nutrition supports better energy\, focus\, and quality of life.    \n\n\n\nFollowed by an Inspiring panel session on “Diagnosis to Discipline: The Real Picture of Wellbeing with Diabetes” with stories of people who have successfully managed to win over diabetes and reclaim their well-being through simple lifestyle changes. moderated by Natasha Vora\, Senior Nutritionist\, Nurture Health Solutions  \n\n\n\nKey Takeaways: \n\n\n\n\nDebunking Common Myths in Diabetes – Understanding what truly affects your blood sugar\n\n\n\n\n\n\n\nBuilding a Balanced Plate – Simple\, sustainable meal planning for better health\n\n\n\nNutrition Hacks for Blood Glucose Control – Everyday tips that actually work.\n\n\n\n\nJoin us this Diabetes Day by registering through the Zoom link : https://zoom.us/webinar/register/WN_XvcWj9tvStCYL7HRdngDDg and Discover the real picture of Wellbeing with Diabetes. \n\n\n\nCelebrate World Diabetes Day with awareness and inspiration!
URL:https://hadsa.com/event/diabetes-and-well-being/
LOCATION:Maharashtra
CATEGORIES:Webinar
ATTACH;FMTTYPE=image/jpeg:https://hadsa.com/wp-content/uploads/2025/11/November14-2025.jpg
ORGANIZER;CN="HADSA":MAILTO:admin@hadsa.com
END:VEVENT
BEGIN:VEVENT
DTSTART;TZID=Asia/Kolkata:20260416T090000
DTEND;TZID=Asia/Kolkata:20260416T180000
DTSTAMP:20260420T044617
CREATED:20260219T061243Z
LAST-MODIFIED:20260219T061458Z
UID:502-1776330000-1776362400@hadsa.com
SUMMARY:Annual Conference 2026
DESCRIPTION:After the successful Annual Conference held at Mumbai on Friday\, March 21\, 2025 HADSA is gearing up for the next flagship event  ‘Annual Conference 2026’ centring on the theme “Global NutraConnect Summit : Unveiling the Growth Story” scheduled for Thursday\, April 16\, 2026 at Hotel Westin\, Goregaon\, Mumbai starting at 09:00 hrs. \n\n\n\nWith the nutraceutical sector in India witnessing accelerated growth\, evolving regulatory frameworks\, and increasing global opportunities. The future of the nutraceutical industry is being shaped now; and you are requested to register and be part of the conversation. \n\n\n\nThe 2026 NutraConnect promises to be even more impactful\, bringing together the following from across the ecosystem: \n\n\n\n\nIndustry leaders and key decision makers\n\n\n\nRegulatory authorities and policymakers\n\n\n\nExperts from Nutraceutical Industry\n\n\n\nAllied associations\n\n\n\nBrand owners and marketers\n\n\n\n\nWhy attend HADSA Annual Conference 2026 – Global NutraConnect Summit? \n\n\n\nFrom global dynamics to India’s regulatory evolution\, from clinical substantiation to CEO-level vision discussions\, this conference brings together the entire value chain under one roof. \n\n\n\nThis year’s agenda brings together global insights\, regulatory perspectives\, scientific breakthroughs\, and market intelligence across key themes: \n\n\n\nIf you are part of the nutraceutical\, dietary supplement\, functional food\, or specialized nutrition ecosystem\, this is where strategic conversations happen. \n\n\n\nRegister early. Save more. Lead the change. \n\n\n\n  Registration Charges Category  Early Bird  Regular  (from March 1\, 2026)  (till February 28\, 2026) Member Rs. 5\,000 Rs. 6\,000 Non – Member Rs. 6\,000 Rs. 7\,000 + GST @ 18%\n\n\n\nLoyalty Benefit : Been part of any of the last two HADSA Annual Conferences?  Avail a special loyalty discount of 10% \n\n\n\nKindly click on the link to register:https://forms.office.com/r/1gNfWhuVhc (Kindly fill up a separate form for each participant). \n\n\n\nDownload the Sponsorship Brochure in case you’d like to explore visibility and partnership opportunities.
URL:https://hadsa.com/event/annual-conference-2026/
LOCATION:The Westin Mumbai Garden City\, Oberoi Garden City\, International Business Park\, Yashodham\, Goregaon\, Mumbai\, Maharashtra\, 400063\, India
CATEGORIES:Seminar & Conference
END:VEVENT
END:VCALENDAR