BEGIN:VCALENDAR
VERSION:2.0
PRODID:-//HADSA - ECPv6.15.20//NONSGML v1.0//EN
CALSCALE:GREGORIAN
METHOD:PUBLISH
X-WR-CALNAME:HADSA
X-ORIGINAL-URL:https://hadsa.com
X-WR-CALDESC:Events for HADSA
REFRESH-INTERVAL;VALUE=DURATION:PT1H
X-Robots-Tag:noindex
X-PUBLISHED-TTL:PT1H
BEGIN:VTIMEZONE
TZID:Asia/Kolkata
BEGIN:STANDARD
TZOFFSETFROM:+0530
TZOFFSETTO:+0530
TZNAME:IST
DTSTART:20210101T000000
END:STANDARD
END:VTIMEZONE
BEGIN:VEVENT
DTSTART;TZID=Asia/Kolkata:20220920T213000
DTEND;TZID=Asia/Kolkata:20220921T000000
DTSTAMP:20260420T025809
CREATED:20231015T063419Z
LAST-MODIFIED:20231015T064624Z
UID:143-1663709400-1663718400@hadsa.com
SUMMARY:The Spectrum of Malnutrition: Prevention and management
DESCRIPTION:The Health Foods And Dietary Supplements Association (HADSA) in collaboration with Indian Dietetic Association\, Mumbai Chapter conducted a webinar to celebrate National Nutrition Month (Poshan Maah) on “The Spectrum of Malnutrition: Prevention and Management” \nReport
URL:https://hadsa.com/event/the-spectrum-of-malnutrition-prevention-and-management/
CATEGORIES:Webinar
END:VEVENT
BEGIN:VEVENT
DTSTART;TZID=Asia/Kolkata:20220726T203000
DTEND;TZID=Asia/Kolkata:20220726T213000
DTSTAMP:20260420T025809
CREATED:20231015T063625Z
LAST-MODIFIED:20231015T064629Z
UID:146-1658867400-1658871000@hadsa.com
SUMMARY:How To Successfully Export Your Food Supplements to Europe?
DESCRIPTION:Health Foods And Dietary Supplements Association (HADSA) Jointly with Ecomundo are collaborative Webinar on “How To Successfully Export Your Food Supplements to Europe?” \nReport
URL:https://hadsa.com/event/how-to-successfully-export-your-food-supplements-to-europe/
CATEGORIES:Webinar
END:VEVENT
BEGIN:VEVENT
DTSTART;TZID=Asia/Kolkata:20220329T193000
DTEND;TZID=Asia/Kolkata:20220329T223000
DTSTAMP:20260420T025809
CREATED:20231015T063751Z
LAST-MODIFIED:20231015T064635Z
UID:149-1648582200-1648593000@hadsa.com
SUMMARY:Sports Supplements & Nutraceuticals
DESCRIPTION:Health Foods And Dietary Supplements Association (HADSA) and Sir Vithaldas Thackersey College of Home Science (Autonomous)\, SNDT Women’s University (SNDTWU) are jointly conducting a webinar on “Sports Supplements & Nutraceuticals” \nReport
URL:https://hadsa.com/event/sports-supplements-nutraceuticals/
CATEGORIES:Webinar
END:VEVENT
BEGIN:VEVENT
DTSTART;TZID=Asia/Kolkata:20220224T000000
DTEND;TZID=Asia/Kolkata:20220224T235959
DTSTAMP:20260420T025809
CREATED:20250315T101508Z
LAST-MODIFIED:20250315T101510Z
UID:432-1645660800-1645747199@hadsa.com
SUMMARY:Integrative Treatment for Targeting Cancer
DESCRIPTION:Click to download report
URL:https://hadsa.com/event/integrative-treatment-for-targeting-cancer/
CATEGORIES:Webinar
END:VEVENT
END:VCALENDAR