BEGIN:VCALENDAR
VERSION:2.0
PRODID:-//HADSA - ECPv6.15.20//NONSGML v1.0//EN
CALSCALE:GREGORIAN
METHOD:PUBLISH
X-ORIGINAL-URL:https://hadsa.com
X-WR-CALDESC:Events for HADSA
REFRESH-INTERVAL;VALUE=DURATION:PT1H
X-Robots-Tag:noindex
X-PUBLISHED-TTL:PT1H
BEGIN:VTIMEZONE
TZID:Asia/Kolkata
BEGIN:STANDARD
TZOFFSETFROM:+0530
TZOFFSETTO:+0530
TZNAME:IST
DTSTART:20210101T000000
END:STANDARD
END:VTIMEZONE
BEGIN:VEVENT
DTSTART;TZID=Asia/Kolkata:20220920T213000
DTEND;TZID=Asia/Kolkata:20220921T000000
DTSTAMP:20260422T031822
CREATED:20231015T063419Z
LAST-MODIFIED:20231015T064624Z
UID:143-1663709400-1663718400@hadsa.com
SUMMARY:The Spectrum of Malnutrition: Prevention and management
DESCRIPTION:The Health Foods And Dietary Supplements Association (HADSA) in collaboration with Indian Dietetic Association\, Mumbai Chapter conducted a webinar to celebrate National Nutrition Month (Poshan Maah) on “The Spectrum of Malnutrition: Prevention and Management” \nReport
URL:https://hadsa.com/event/the-spectrum-of-malnutrition-prevention-and-management/
LOCATION:Maharashtra
CATEGORIES:Webinar
END:VEVENT
BEGIN:VEVENT
DTSTART;TZID=Asia/Kolkata:20220921T150000
DTEND;TZID=Asia/Kolkata:20220921T223000
DTSTAMP:20260422T031822
CREATED:20231015T063200Z
LAST-MODIFIED:20231015T064613Z
UID:139-1663772400-1663799400@hadsa.com
SUMMARY:Holistic health of Mother and Child
DESCRIPTION:Sir Vithaldas Thackersey College of Home Science (Autonomous) SNDT Women’s University in Collaboration with Health Foods and Dietary Supplements Association (HADSA) seminar on “Holistic health of Mother and Child” \nReport
URL:https://hadsa.com/event/holistic-health-of-mother-and-child/
LOCATION:Maharashtra
CATEGORIES:Seminar & Conference
END:VEVENT
END:VCALENDAR