BEGIN:VCALENDAR
VERSION:2.0
PRODID:-//HADSA - ECPv6.15.20//NONSGML v1.0//EN
CALSCALE:GREGORIAN
METHOD:PUBLISH
X-ORIGINAL-URL:https://hadsa.com
X-WR-CALDESC:Events for HADSA
REFRESH-INTERVAL;VALUE=DURATION:PT1H
X-Robots-Tag:noindex
X-PUBLISHED-TTL:PT1H
BEGIN:VTIMEZONE
TZID:Asia/Kolkata
BEGIN:STANDARD
TZOFFSETFROM:+0530
TZOFFSETTO:+0530
TZNAME:IST
DTSTART:20210101T000000
END:STANDARD
END:VTIMEZONE
BEGIN:VEVENT
DTSTART;TZID=Asia/Kolkata:20221125T220000
DTEND;TZID=Asia/Kolkata:20221125T233000
DTSTAMP:20260422T005257
CREATED:20231015T062659Z
LAST-MODIFIED:20231015T064552Z
UID:132-1669413600-1669419000@hadsa.com
SUMMARY:New Horizons in Diabetic Specific Nutrition
DESCRIPTION:
URL:https://hadsa.com/event/new-horizons-in-diabetic-specific-nutrition/
LOCATION:Maharashtra
CATEGORIES:Webinar
END:VEVENT
END:VCALENDAR