BEGIN:VCALENDAR
VERSION:2.0
PRODID:-//HADSA - ECPv6.15.20//NONSGML v1.0//EN
CALSCALE:GREGORIAN
METHOD:PUBLISH
X-ORIGINAL-URL:https://hadsa.com
X-WR-CALDESC:Events for HADSA
REFRESH-INTERVAL;VALUE=DURATION:PT1H
X-Robots-Tag:noindex
X-PUBLISHED-TTL:PT1H
BEGIN:VTIMEZONE
TZID:Asia/Kolkata
BEGIN:STANDARD
TZOFFSETFROM:+0530
TZOFFSETTO:+0530
TZNAME:IST
DTSTART:20230101T000000
END:STANDARD
END:VTIMEZONE
BEGIN:VEVENT
DTSTART;TZID=Asia/Kolkata:20241018T000000
DTEND;TZID=Asia/Kolkata:20241018T235959
DTSTAMP:20260420T180446
CREATED:20250315T101239Z
LAST-MODIFIED:20250315T101240Z
UID:429-1729209600-1729295999@hadsa.com
SUMMARY:Nutraceuticals. Functional Foods and Overall well-being
DESCRIPTION:Click to download report
URL:https://hadsa.com/event/nutraceuticals-functional-foods-and-overall-well-being/
LOCATION:Maharashtra
CATEGORIES:Webinar
END:VEVENT
END:VCALENDAR