BEGIN:VCALENDAR
VERSION:2.0
PRODID:-//HADSA - ECPv6.15.20//NONSGML v1.0//EN
CALSCALE:GREGORIAN
METHOD:PUBLISH
X-WR-CALNAME:HADSA
X-ORIGINAL-URL:https://hadsa.com
X-WR-CALDESC:Events for HADSA
REFRESH-INTERVAL;VALUE=DURATION:PT1H
X-Robots-Tag:noindex
X-PUBLISHED-TTL:PT1H
BEGIN:VTIMEZONE
TZID:Asia/Kolkata
BEGIN:STANDARD
TZOFFSETFROM:+0530
TZOFFSETTO:+0530
TZNAME:IST
DTSTART:20230101T000000
END:STANDARD
END:VTIMEZONE
BEGIN:VEVENT
DTSTART;TZID=Asia/Kolkata:20241113T000000
DTEND;TZID=Asia/Kolkata:20241113T235959
DTSTAMP:20260420T163138
CREATED:20250315T100926Z
LAST-MODIFIED:20250315T100927Z
UID:425-1731456000-1731542399@hadsa.com
SUMMARY:Dietary Supplements – Export To USA: Dream → Reality
DESCRIPTION:Click to download report
URL:https://hadsa.com/event/dietary-supplements-export-to-usa-dream-%e2%86%92-reality/
LOCATION:Maharashtra
CATEGORIES:Webinar
END:VEVENT
END:VCALENDAR