BEGIN:VCALENDAR
VERSION:2.0
PRODID:-//HADSA - ECPv6.15.20//NONSGML v1.0//EN
CALSCALE:GREGORIAN
METHOD:PUBLISH
X-WR-CALNAME:HADSA
X-ORIGINAL-URL:https://hadsa.com
X-WR-CALDESC:Events for HADSA
REFRESH-INTERVAL;VALUE=DURATION:PT1H
X-Robots-Tag:noindex
X-PUBLISHED-TTL:PT1H
BEGIN:VTIMEZONE
TZID:Asia/Kolkata
BEGIN:STANDARD
TZOFFSETFROM:+0530
TZOFFSETTO:+0530
TZNAME:IST
DTSTART:20240101T000000
END:STANDARD
END:VTIMEZONE
BEGIN:VEVENT
DTSTART;TZID=Asia/Kolkata:20250321T000000
DTEND;TZID=Asia/Kolkata:20250321T235959
DTSTAMP:20260420T103632
CREATED:20250110T132026Z
LAST-MODIFIED:20250311T054545Z
UID:355-1742515200-1742601599@hadsa.com
SUMMARY:Annual Conference 2025
DESCRIPTION:We at HADSA are happy to inform about our flagship event ‘Annual Conference 2025’ centring on the theme “Nutraceuticals Unleashed: Innovating Holistic Health through Science and Market Insights”  scheduled on Friday\, March 21\, 2025 at Holiday Inn\, Mumbai. \n\n\n\nAt this conference\, we aim to bring together regulators\, industry organizations\, key decision makers\, and representatives from the Nutraceutical industry. The conference aims to have detailed deliberations on the advancements in the Nutraceutical sector by exploring opportunities for innovation and potentials in the global market. \n\n\n\nRegistration Charges: \n\n\n\nRegistration ChargesCategoryRegularMemberRs. 5\,000Non – MemberRs. 5\,500 + GST @ 18%\n\n\n\nKindly click on the link to register: https://forms.gle/wsrGvRzyH1K1VZt18 \n\n\n\n(Kindly fill up a separate form for each participant). \n\n\n\n\n\n\n\nKindly click on the link to register: https://forms.gle/wsrGvRzyH1K1VZt18 \n\n\n\n(Kindly fill up a separate form for each participant).
URL:https://hadsa.com/event/annual-conference-2025/
LOCATION:Holiday Inn\, Mumbai\, Sakinaka\, Junction\, Andheri - Kurla Rd\, Andheri East\, Mumbai\, 400072\, India
CATEGORIES:Seminar & Conference
END:VEVENT
END:VCALENDAR